BEGIN:VCALENDAR
VERSION:2.0
PRODID:-//Association des Radioamateurs d&#039;Ille-et-Vilaine - ECPv6.15.20//NONSGML v1.0//EN
CALSCALE:GREGORIAN
METHOD:PUBLISH
X-ORIGINAL-URL:https://ara35.fr
X-WR-CALDESC:Évènements pour Association des Radioamateurs d&#039;Ille-et-Vilaine
REFRESH-INTERVAL;VALUE=DURATION:PT1H
X-Robots-Tag:noindex
X-PUBLISHED-TTL:PT1H
BEGIN:VTIMEZONE
TZID:Europe/Paris
BEGIN:DAYLIGHT
TZOFFSETFROM:+0100
TZOFFSETTO:+0200
TZNAME:CEST
DTSTART:20250330T010000
END:DAYLIGHT
BEGIN:STANDARD
TZOFFSETFROM:+0200
TZOFFSETTO:+0100
TZNAME:CET
DTSTART:20251026T010000
END:STANDARD
BEGIN:DAYLIGHT
TZOFFSETFROM:+0100
TZOFFSETTO:+0200
TZNAME:CEST
DTSTART:20260329T010000
END:DAYLIGHT
BEGIN:STANDARD
TZOFFSETFROM:+0200
TZOFFSETTO:+0100
TZNAME:CET
DTSTART:20261025T010000
END:STANDARD
BEGIN:DAYLIGHT
TZOFFSETFROM:+0100
TZOFFSETTO:+0200
TZNAME:CEST
DTSTART:20270328T010000
END:DAYLIGHT
BEGIN:STANDARD
TZOFFSETFROM:+0200
TZOFFSETTO:+0100
TZNAME:CET
DTSTART:20271031T010000
END:STANDARD
END:VTIMEZONE
BEGIN:VEVENT
DTSTART;TZID=Europe/Paris:20261003T090000
DTEND;TZID=Europe/Paris:20261003T180000
DTSTAMP:20260425T175312
CREATED:20260408T194511Z
LAST-MODIFIED:20260408T194511Z
UID:6235-1791018000-1791050400@ara35.fr
SUMMARY:Hamexpo
DESCRIPTION:LE salon des Radioamateurs en France
URL:https://ara35.fr/event/hamexpo-2026/
LOCATION:Le Mans\, Le Mans\, France
ATTACH;FMTTYPE=image/jpeg:https://ara35.fr/wp-content/uploads/2025/07/REF_Salons-2025_HAMEXPO-724x1024-1.jpg
END:VEVENT
END:VCALENDAR